BEGIN:VCALENDAR
VERSION:2.0
PRODID:-//Merdeka360 - ECPv6.15.20//NONSGML v1.0//EN
CALSCALE:GREGORIAN
METHOD:PUBLISH
X-WR-CALNAME:Merdeka360
X-ORIGINAL-URL:https://www.merdeka360.my/web
X-WR-CALDESC:Events for Merdeka360
REFRESH-INTERVAL;VALUE=DURATION:PT1H
X-Robots-Tag:noindex
X-PUBLISHED-TTL:PT1H
BEGIN:VTIMEZONE
TZID:Asia/Kuala_Lumpur
BEGIN:STANDARD
TZOFFSETFROM:+0800
TZOFFSETTO:+0800
TZNAME:+08
DTSTART:20240101T000000
END:STANDARD
END:VTIMEZONE
BEGIN:VEVENT
DTSTART;VALUE=DATE:20250730
DTEND;VALUE=DATE:20250801
DTSTAMP:20260420T063514
CREATED:20250730T012311Z
LAST-MODIFIED:20250731T102417Z
UID:11418-1753833600-1754006399@www.merdeka360.my
SUMMARY:JAPEN - Kembara Merdeka Jalur Gemilang Peringkat Negeri Melaka
DESCRIPTION:Lokasi Hari Pertama: Kolej Vokasional Datuk Seri Abu Zahar Isnin\, Jasin & Masjid Ar-Rahman\, Durian Tunggal (30 Julai 2025) \nLokasi Hari Kedua: Japerun Rembia\, Alor Gajah (31 Julai 2025)
URL:https://www.merdeka360.my/web/event/japen-kembara-merdeka-jalur-gemilang-peringkat-negeri-melaka/
CATEGORIES:PROGRAM JABATAN / AGENSI DI BAWAH KEMENTERIAN KOMUNIKASI,PROGRAM NEGERI
ATTACH;FMTTYPE=image/png:https://www.merdeka360.my/web/wp-content/uploads/2025/07/MELAKA.png
END:VEVENT
BEGIN:VEVENT
DTSTART;VALUE=DATE:20250731
DTEND;VALUE=DATE:20250801
DTSTAMP:20260420T063514
CREATED:20250731T085432Z
LAST-MODIFIED:20250731T085551Z
UID:11633-1753920000-1754006399@www.merdeka360.my
SUMMARY:KESUMA - Majlis Perhimpunan Bulanan dan Pelancaran Bulan Kemerdekaan dan Hari Malaysia Peringkat KESUMA
DESCRIPTION:Lokasi: Kementerian Sumber Manusia
URL:https://www.merdeka360.my/web/event/kesuma-majlis-perhimpunan-bulanan-dan-pelancaran-bulan-kemerdekaan-dan-hari-malaysia-peringkat-kesuma/
CATEGORIES:PROGRAM KEMENTERIAN
ATTACH;FMTTYPE=image/jpeg:https://www.merdeka360.my/web/wp-content/uploads/2025/07/KESUMA.jpg
END:VEVENT
BEGIN:VEVENT
DTSTART;VALUE=DATE:20250731
DTEND;VALUE=DATE:20250802
DTSTAMP:20260420T063514
CREATED:20250730T014230Z
LAST-MODIFIED:20250801T092155Z
UID:11425-1753920000-1754092799@www.merdeka360.my
SUMMARY:JAPEN - Kembara Merdeka Jalur Gemilang Peringkat Negeri Sembilan
DESCRIPTION:Lokasi Hari Pertama: Wisma Persekutuan\, Muzium Rembau\, Masjid Jamek Tanah Datar Chengkau\, Kampung Orang Asli (KOA) Bari\, Kuala Pilah & McDonald’s Melang\, Kuala Pilah (31 Julai 2025) \nLokasi Hari Kedua: Dewan MBS\, SK Nilai Impian & Masjid Dato’ Penghulu Menteri Sungei Ujong (1 Ogos 2025)
URL:https://www.merdeka360.my/web/event/japen-kembara-merdeka-jalur-gemilang-peringkat-negeri-sembilan/
CATEGORIES:PROGRAM JABATAN / AGENSI DI BAWAH KEMENTERIAN KOMUNIKASI,PROGRAM NEGERI
ATTACH;FMTTYPE=image/png:https://www.merdeka360.my/web/wp-content/uploads/2025/07/NEGERI-SEMBILAN.png
END:VEVENT
BEGIN:VEVENT
DTSTART;TZID=Asia/Kuala_Lumpur:20250731T080000
DTEND;TZID=Asia/Kuala_Lumpur:20250731T110000
DTSTAMP:20260420T063514
CREATED:20250803T074639Z
LAST-MODIFIED:20250803T074639Z
UID:12073-1753948800-1753959600@www.merdeka360.my
SUMMARY:Jabatan Penjara Malaysia - Majlis Peluncuran Bulan Kebangsaan dan Kibar Jalur Gemilang Peringkat Sekolah Henry Gurney Telok Mas\, Melaka Tahun 2025
DESCRIPTION:Bersempena Bulan Kemerdekaan Tahun 2025 bertemakan Malaysia MADANI: Rakyat Disantuni\, PP Triyo Kurniawan Bin Kusmadi\, yang menjalankan tugas Pengarah Sekolah Henry Gurney Telok Mas\, Melaka melancarkan Majlis Peluncuran Bulan Kebangsaan dan Kibar Jalur Gemilang Peringkat Sekolah Henry Gurney Telok Mas\, Melaka Tahun 2025.  \nMajlis dimulakan dengan ucapan amanat oleh PP Triyo Kurniawan Bin Kusmadi\, yang menjalankan tugas Pengarah Sekolah Henry Gurney Telok Mas dengan menyampaikan usaha saranan kerajaan yang menyeru semua pihak menyemarakkan Sambutan Hari Kemerdekaan Yang Ke-68 pada tahun ini. Majlis diteruskan dengan penyerahan bendera kepada Ketua Unit dan pemasangan Jalur Gemilang di kenderaan jabatan.
URL:https://www.merdeka360.my/web/event/jabatan-penjara-malaysia-majlis-peluncuran-bulan-kebangsaan-dan-kibar-jalur-gemilang-peringkat-sekolah-henry-gurney-telok-mas-melaka-tahun-2025/
CATEGORIES:PROGRAM KEMENTERIAN
ATTACH;FMTTYPE=image/jpeg:https://www.merdeka360.my/web/wp-content/uploads/2025/08/henry.jpg
END:VEVENT
BEGIN:VEVENT
DTSTART;VALUE=DATE:20250801
DTEND;VALUE=DATE:20250901
DTSTAMP:20260420T063514
CREATED:20250805T060135Z
LAST-MODIFIED:20250805T060135Z
UID:12301-1754006400-1756684799@www.merdeka360.my
SUMMARY:JAPEN Sabah - Pertandingan Reels\, "Merdeka Kita\, Cerita Kita"
DESCRIPTION:Bulan Kebangsaan kini tiba! Jabatan Penerangan dengan kerjasama Proton Shirba Auto World Sdn Bhd 3S dan Lembaga Koko Malaysia ingin menjemput anda untuk mengikuti Pertandingan Reels\, “Merdeka Kita\, Cerita Kita”. Jom ramai-ramai serlahkan bakat anda! \nTarikh Penyertaan: 1 – 31 Ogos 2025 \nHadiah lumayan menanti anda! \nMaklumat lanjut layari: facebook Jabatan Penerangan Sabah
URL:https://www.merdeka360.my/web/event/japen-sabah-pertandingan-reels-merdeka-kita-cerita-kita/
CATEGORIES:PROGRAM NEGERI
ATTACH;FMTTYPE=image/jpeg:https://www.merdeka360.my/web/wp-content/uploads/2025/08/PERTANDINGAN-REELS.jpg
END:VEVENT
BEGIN:VEVENT
DTSTART;VALUE=DATE:20250801
DTEND;VALUE=DATE:20250802
DTSTAMP:20260420T063514
CREATED:20250728T015601Z
LAST-MODIFIED:20250728T015717Z
UID:11298-1754006400-1754092799@www.merdeka360.my
SUMMARY:KPM - Riadah Kibar Jalur Gemilang sempena Sambutan Bulan Kebangsaan 2025
DESCRIPTION:Lokasi: Perkarangan Blok E14 dan E15
URL:https://www.merdeka360.my/web/event/kpm-riadah-kibar-jalur-gemilang-sempena-sambutan-bulan-kebangsaan-2025/
CATEGORIES:PROGRAM KEMENTERIAN
ATTACH;FMTTYPE=image/jpeg:https://www.merdeka360.my/web/wp-content/uploads/2025/07/RIADAH-KIBAR-JALUR-GEMILANG.jpeg
END:VEVENT
BEGIN:VEVENT
DTSTART;VALUE=DATE:20250801
DTEND;VALUE=DATE:20250803
DTSTAMP:20260420T063514
CREATED:20250730T014548Z
LAST-MODIFIED:20250802T111445Z
UID:11427-1754006400-1754179199@www.merdeka360.my
SUMMARY:JAPEN - Kembara Merdeka Jalur Gemilang Peringkat Negeri Selangor
DESCRIPTION:Lokasi Hari Pertama: Dataran Bandar Baru Salak Tinggi\, Sepang International Circuit & McDonald’s Kota Warisan\, Sepang (1 Ogos 2025) \nLokasi Hari Kedua: Laman Majlis Bandaraya Petaling Jaya (MBPJ)\, Pantai Redang\, Sekinchan\, Sabak Bernam & Pejabat Penyelaras DUN Sabak (2 Ogos 2025)
URL:https://www.merdeka360.my/web/event/japen-kembara-merdeka-jalur-gemilang-peringkat-negeri-selangor/
CATEGORIES:PROGRAM JABATAN / AGENSI DI BAWAH KEMENTERIAN KOMUNIKASI,PROGRAM NEGERI
ATTACH;FMTTYPE=image/png:https://www.merdeka360.my/web/wp-content/uploads/2025/07/SELANGOR.png
END:VEVENT
BEGIN:VEVENT
DTSTART;VALUE=DATE:20250801
DTEND;VALUE=DATE:20250809
DTSTAMP:20260420T063514
CREATED:20250812T065928Z
LAST-MODIFIED:20250812T065928Z
UID:13457-1754006400-1754697599@www.merdeka360.my
SUMMARY:KE - Pertandingan Puisi Kemerdekaan
DESCRIPTION:  \nTarikh: 1 – 8 Ogos 2025
URL:https://www.merdeka360.my/web/event/ke-pertandingan-puisi-kemerdekaan/
CATEGORIES:PROGRAM KEMENTERIAN
ATTACH;FMTTYPE=image/png:https://www.merdeka360.my/web/wp-content/uploads/2025/08/CIPTA-PUISI-KE.png
END:VEVENT
BEGIN:VEVENT
DTSTART;VALUE=DATE:20250801
DTEND;VALUE=DATE:20250816
DTSTAMP:20260420T063514
CREATED:20250808T014927Z
LAST-MODIFIED:20250808T014927Z
UID:12788-1754006400-1755302399@www.merdeka360.my
SUMMARY:PETRA - Pertandingan "Deklamasi Puisi Patriotik PETRA" sempena Sambutan Hari Kebangsaan 2025
DESCRIPTION:Lokasi: Menara PETRA \nTarikh: 1 – 15 Ogos 2025
URL:https://www.merdeka360.my/web/event/petra-pertandingan-deklamasi-puisi-patriotik-petra-sempena-sambutan-hari-kebangsaan-2025/
CATEGORIES:PROGRAM KEMENTERIAN
ATTACH;FMTTYPE=image/png:https://www.merdeka360.my/web/wp-content/uploads/2025/08/puisi-patriotik-petra.png
END:VEVENT
BEGIN:VEVENT
DTSTART;VALUE=DATE:20250801
DTEND;VALUE=DATE:20250901
DTSTAMP:20260420T063514
CREATED:20250626T055847Z
LAST-MODIFIED:20250723T010013Z
UID:9314-1754006400-1756684799@www.merdeka360.my
SUMMARY:RELA\, KDN - Pertandingan Video Kreatif Merdeka RELA
DESCRIPTION:Lokasi: Secara Dalam Talian \n  \n  \n  \n 
URL:https://www.merdeka360.my/web/event/rela-pertandingan-video-kreatif-tiktok-merdeka-rela/
CATEGORIES:PROGRAM KEMENTERIAN
ATTACH;FMTTYPE=image/jpeg:https://www.merdeka360.my/web/wp-content/uploads/2025/06/VIDEO-KREATIF-MERDEKA-RELA.jpeg
END:VEVENT
BEGIN:VEVENT
DTSTART;VALUE=DATE:20250801
DTEND;VALUE=DATE:20250901
DTSTAMP:20260420T063514
CREATED:20250802T142928Z
LAST-MODIFIED:20250802T142928Z
UID:11965-1754006400-1756684799@www.merdeka360.my
SUMMARY:Tourism Malaysia - Spot The Jalur Gemilang Travel Challenges!
DESCRIPTION:Sempena Bulan Kemerdekaan ini\, lensa anda adalah suara anda! Sertai Spot the Jalur Gemilang Travel Challenge dari 1 hingga 31 Ogos 2025 dan menangi barangan eksklusif Visit Malaysia 2026! 🤩 \nCara Penyertaan:\n1️⃣ Snap it! – Ambil gambar atau video pendek terbaik anda bersama Jalur Gemilang di lokasi menarik atau mercu tanda ikonik.\n2️⃣ Share it! – Muat naik di Instagram\, Facebook\, atau TikTok.\n3️⃣ Tag & Hashtag! – Guna tanda pagar:\n#VisitMalaysia2026 #MalaysiaTrulyAsia #CutiCutiMalaysia #SpotJalurGemilang\ndan tag:\n📸 @malaysia.truly.asia (IG)\n📘 Tourism Malaysia (FB & TikTok) \n📍Imbas kod QR untuk maklumat lanjut. Terma & syarat dikenakan. \n🎁 3 penyertaan paling kreatif berpeluang memenangi barangan edisi terhad Visit Malaysia 2026!
URL:https://www.merdeka360.my/web/event/tourism-malaysia-spot-the-jalur-gemilang-travel-challenges/
CATEGORIES:PROGRAM KEMENTERIAN
ATTACH;FMTTYPE=image/jpeg:https://www.merdeka360.my/web/wp-content/uploads/2025/08/spot-the-merdeka-challenge.jpg
END:VEVENT
BEGIN:VEVENT
DTSTART;VALUE=DATE:20250801
DTEND;VALUE=DATE:20250901
DTSTAMP:20260420T063514
CREATED:20250803T034828Z
LAST-MODIFIED:20250803T034828Z
UID:11997-1754006400-1756684799@www.merdeka360.my
SUMMARY:AKM\, JPM - Bicara Kenegaraan: Aku Kasih Malaysia
DESCRIPTION:𝟏 𝐁𝐮𝐥𝐚𝐧 – 𝟏 𝐍𝐞𝐠𝐚𝐫𝐚 – 𝟏 𝐉𝐮𝐭𝐚 𝐫𝐚𝐤𝐲𝐚𝐭 𝐌𝐚𝐥𝐚𝐲𝐬𝐢𝐚 bakal menyertai dan mengikuti bicara kenegaraan. \nAkademi Kenegaraan Malaysia (AKM)\, Pejabat Perdana Menteri menganjurkan 𝐏𝐫𝐨𝐠𝐫𝐚𝐦 𝐁𝐢𝐜𝐚𝐫𝐚 𝐊𝐞𝐧𝐞𝐠𝐚𝐫𝐚𝐚𝐧: 𝐀𝐤𝐮 𝐊𝐚𝐬𝐢𝐡 𝐌𝐚𝐥𝐚𝐲𝐬𝐢𝐚 sempena Sambutan Hari Kebangsaan ke-68. \n𝐏𝐞𝐥𝐚𝐤𝐬𝐚𝐧𝐚𝐚𝐧 : Program kenegaraan bersemuka yang interaktif dan inklusif sepanjang bulan Ogos 2025. \n𝐓𝐨𝐩𝐢𝐤 :\n•Sejarah Kenegaraan\n•Perlembagaan Persekutuan\n•Rukun Negara\n•Naratif Malaysia MADANI \n𝐓𝐮𝐣𝐮𝐚𝐧 : Menyemarakkan semangat patriotik dan menyampaikan aspirasi Malaysia MADANI🇲🇾 \n𝐏𝐞𝐧𝐲𝐞𝐫𝐭𝐚𝐚𝐧 :\nBelia\, Eksekutif\, Korporat\, Swasta\, Pengamal Media dan Komuniti. \n𝐌𝐚𝐭𝐥𝐚𝐦𝐚𝐭 : 𝐌𝐞𝐧𝐜𝐢𝐩𝐭𝐚 𝐫𝐞𝐤𝐨𝐝 𝐊𝐞𝐛𝐚𝐧𝐠𝐬𝐚𝐚𝐧 𝐛𝐚𝐠𝐢 𝐌𝐚𝐥𝐚𝐲𝐬𝐢𝐚 𝐁𝐨𝐨𝐤 𝐨𝐟 𝐑𝐞𝐜𝐨𝐫𝐝𝐬 dalam ‘𝐋𝐚𝐫𝐠𝐞𝐬𝐭 𝐏𝐚𝐫𝐭𝐢𝐜𝐢𝐩𝐚𝐭𝐢𝐨𝐧 𝐈𝐧 𝐀 𝐍𝐚𝐭𝐢𝐨𝐧-𝐁𝐮𝐢𝐥𝐝𝐢𝐧𝐠 𝐓𝐚𝐥𝐤 𝐂𝐚𝐦𝐩𝐚𝐢𝐠𝐧 / 🏆𝐏𝐞𝐧𝐲𝐞𝐫𝐭𝐚𝐚𝐧 𝐓𝐞𝐫𝐚𝐦𝐚𝐢 𝐌𝐞𝐧𝐠𝐢𝐤𝐮𝐭𝐢 𝐁𝐢𝐜𝐚𝐫𝐚 𝐊𝐞𝐧𝐞𝐠𝐚𝐫𝐚𝐚𝐧 𝐝𝐢 𝐌𝐚𝐥𝐚𝐲𝐬𝐢𝐚” \nAyuh bersama-sama AKM menjadikan bulan kemerdekaan ini lebih bermakna. \nKita semarakkan cinta\, kita perkasa jiwa patriotik\, demi Malaysia tercinta.
URL:https://www.merdeka360.my/web/event/akm-jpm-bicara-kenegaraan-aku-kasih-malaysia/
CATEGORIES:PROGRAM KEMENTERIAN
ATTACH;FMTTYPE=image/jpeg:https://www.merdeka360.my/web/wp-content/uploads/2025/08/AKM-JPM.jpeg
END:VEVENT
BEGIN:VEVENT
DTSTART;VALUE=DATE:20250801
DTEND;VALUE=DATE:20250901
DTSTAMP:20260420T063514
CREATED:20250810T032651Z
LAST-MODIFIED:20250810T032651Z
UID:12974-1754006400-1756684799@www.merdeka360.my
SUMMARY:KPN - Pertandingan Fotografi Bertemakan Hari Kemerdekaan
DESCRIPTION:PENYERTAAN ADALAH PERCUMA DAN TERBUKA KEPADA SEMUA WARGANEGARA MALAYSIA \nPENGHANTARAN GAMBAR MELALUI POS SAHAJA! \n🏆 Hadiah menarik menanti para pemenang! \n📚 Anjuran Kementerian Perpaduan Negara melalui Perpustakaan Negara Malaysia \n📲 Untuk maklumat lanjut dan syarat pendaftaran:\n📥 Imbas kod QR dalam poster rasmi
URL:https://www.merdeka360.my/web/event/kpn-pertandingan-fotografi-bertemakan-hari-kemerdekaan/
CATEGORIES:PROGRAM KEMENTERIAN
ATTACH;FMTTYPE=image/jpeg:https://www.merdeka360.my/web/wp-content/uploads/2025/08/PERTANDINGAN-FOTOGRAFI.jpg
END:VEVENT
BEGIN:VEVENT
DTSTART;VALUE=DATE:20250801
DTEND;VALUE=DATE:20250917
DTSTAMP:20260420T063514
CREATED:20250801T093918Z
LAST-MODIFIED:20250801T094032Z
UID:11820-1754006400-1758067199@www.merdeka360.my
SUMMARY:KPN - Kempen Taat Setia Rukun Negara
DESCRIPTION:𝐊𝐄𝐌𝐏𝐄𝐍 𝐓𝐀𝐀𝐓 𝐒𝐄𝐓𝐈𝐀 𝐑𝐔𝐊𝐔𝐍 𝐍𝐄𝐆𝐀𝐑𝐀 : 𝐒𝐄𝐌𝐏𝐄𝐍𝐀 𝟓𝟓 𝐓𝐀𝐇𝐔𝐍 𝐑𝐔𝐊𝐔𝐍 𝐍𝐄𝐆𝐀𝐑𝐀 !!\n\n\nRukun Negara kini genap 55 tahun!\n\n\nSelama lebih lima dekad\, lima prinsip teras ini telah menjadi panduan hidup dan asas penyatuan kita sebagai rakyat Malaysia yang berbilang kaum\, budaya dan agama.\n\n\nMari kita renungkan kembali nilai-nilai murni yang terkandung dalam Rukun Negara. Bermula daripada Kepercayaan kepada Tuhan\, Kesetiaan Kepada Raja dan Negara\, Keluhuran Perlembagaan\, Kedaulatan Undang-Undang\, hinggalah kepada Kesopanan dan Kesusilaan. Inilah tiang seri yang membentuk identiti kita sebagai rakyat Malaysia yang harmoni dan bersatu padu.\n\n\nSertai Kempen Taat Setia Rukun Negara anjuran Kementerian Perpaduan Negara dan tunjukkan rasa cinta serta komitmen anda terhadap negara tercinta!\nKongsi semangat perpaduan anda bersama rakan-rakan\, keluarga\, komuniti dan sesiapa sahaja di media sosial!!!\n\n\n\n\n\nLayari pautan rasmi facebook Kementerian Perpaduan Negara untuk maklumat lanjut.
URL:https://www.merdeka360.my/web/event/kpn-kempen-taat-setia-rukun-negara/
CATEGORIES:PROGRAM KEMENTERIAN
ATTACH;FMTTYPE=image/jpeg:https://www.merdeka360.my/web/wp-content/uploads/2025/08/KEMPEN-TAAT-SETI-RUKUN-NEGARA.jpg
END:VEVENT
BEGIN:VEVENT
DTSTART;VALUE=DATE:20250801
DTEND;VALUE=DATE:20250917
DTSTAMP:20260420T063514
CREATED:20250801T152713Z
LAST-MODIFIED:20250801T152713Z
UID:11839-1754006400-1758067199@www.merdeka360.my
SUMMARY:IOI City Mall - Jalan Kita\, Cerita Kita
DESCRIPTION:Mari raikan semangat Merdeka di IOI City Mall dengan Jalan Kita\, Cerita Kita\, yang berlangsung dari 1 Ogos hingga 16 September 2025! Sertai kami dalam menghargai perpaduan\, budaya dan komuniti melalui pelbagai aktiviti menarik untuk semua: \n🎁 Spirit of Merdeka Giveaway – bawa pulang barangan patriotik istimewa!📸 Tribut Fotografi kepada Perpaduan – lalui koleksi gambar yang mengagumkan dan menyentuh hati!🎭 Bengkel & Persembahan Budaya – nikmati aktiviti interaktif dan persembahan penuh warna untuk seisi keluarga!
URL:https://www.merdeka360.my/web/event/ioi-city-mall-jalan-kita-cerita-kita/
CATEGORIES:PROGRAM GLC / SWASTA / NGO
ATTACH;FMTTYPE=image/jpeg:https://www.merdeka360.my/web/wp-content/uploads/2025/08/JALAN-KITA-CERITA-KITA.jpg
END:VEVENT
BEGIN:VEVENT
DTSTART;TZID=Asia/Kuala_Lumpur:20250801T063000
DTEND;TZID=Asia/Kuala_Lumpur:20250801T100000
DTSTAMP:20260420T063514
CREATED:20250803T080047Z
LAST-MODIFIED:20250803T080203Z
UID:12083-1754029800-1754042400@www.merdeka360.my
SUMMARY:SK Sejagong - Majlis Peluncuran Sambutan Bulan Kebangsaan Dan Kibar Jalur Gemilang Peringkat SKSe Tahun 2025
DESCRIPTION:Bersempena Bulan Kemerdekaan Tahun 2025 bertemakan Malaysia MADANI: Rakyat Disantuni\, Yang Berusaha Cikgu Mohd Alias Bin Bachok\, Guru Besar SKSe melancarkan Majlis Peluncuran Bulan Kebangsaan Dan Kibar Jalur Gemilang Peringkat Sekolah Kebangsaan Sejagong bertempat di Dewan Noraini\, SKSe.
URL:https://www.merdeka360.my/web/event/sk-sejagong-majlis-peluncuran-sambutan-bulan-kebangsaan-dan-kibar-jalur-gemilang-peringkat-skse-tahun-2025/
CATEGORIES:PROGRAM KEMENTERIAN
ATTACH;FMTTYPE=image/jpeg:https://www.merdeka360.my/web/wp-content/uploads/2025/08/sejagong.jpg
END:VEVENT
BEGIN:VEVENT
DTSTART;TZID=Asia/Kuala_Lumpur:20250801T090000
DTEND;TZID=Asia/Kuala_Lumpur:20250801T110000
DTSTAMP:20260420T063514
CREATED:20250803T075439Z
LAST-MODIFIED:20250803T075456Z
UID:12080-1754038800-1754046000@www.merdeka360.my
SUMMARY:Kerajaan Negeri Sabah - Majlis Pelancaran Bulan Kebangsaan Hari Sabah & Kempen Kibar Bendera 2025
DESCRIPTION:Lokasi: Grand Ballroom\, Level 1\, The Magellan Sutera Resort\nTarikh: 1 Ogos 2025 (Jumaat)\nMasa: 9.00 pagi \nDirasmikan oleh: YAB Datuk Seri Panglima Haji Hajiji Bin Haji Noor\, Ketua Menteri Sabah
URL:https://www.merdeka360.my/web/event/kerajaan-negeri-sabah-majlis-pelancaran-bulan-kebangsaan-hari-sabah-kempen-kibar-bendera-2025/
CATEGORIES:PROGRAM NEGERI
ATTACH;FMTTYPE=image/jpeg:https://www.merdeka360.my/web/wp-content/uploads/2025/08/sabah.jpg
END:VEVENT
BEGIN:VEVENT
DTSTART;VALUE=DATE:20250802
DTEND;VALUE=DATE:20250803
DTSTAMP:20260420T063514
CREATED:20250802T062803Z
LAST-MODIFIED:20250802T062803Z
UID:11882-1754092800-1754179199@www.merdeka360.my
SUMMARY:Kerajaan Negeri Perak - Majlis Pra Peluncuran Bulan Kebangsaan dan Kibar Jalur Gemilang 2025 Peringkat Negeri Perak
DESCRIPTION:Tarikh : 2 Ogos 2025 (Sabtu) \nLokasi: Dataran Menara Condong\, Teluk Intan \nPerasmi: YB Tuan Nga Kor Ming\, Menteri Perumahan dan Kerajaan Tempatan \n 
URL:https://www.merdeka360.my/web/event/kerajaan-negeri-perak-majlis-pra-peluncuran-bulan-kebangsaan-dan-kibar-jalur-gemilang-2025-peringkat-negeri-perak/
CATEGORIES:PROGRAM NEGERI
ATTACH;FMTTYPE=image/jpeg:https://www.merdeka360.my/web/wp-content/uploads/2025/08/PERAK.jpeg
END:VEVENT
BEGIN:VEVENT
DTSTART;VALUE=DATE:20250802
DTEND;VALUE=DATE:20250803
DTSTAMP:20260420T063514
CREATED:20250802T063448Z
LAST-MODIFIED:20250802T063448Z
UID:11886-1754092800-1754179199@www.merdeka360.my
SUMMARY:Kerajaan Negeri Selangor - Majlis Peluncuran Bulan Kebangsaan Peringkat MBPJ & Kembara Merdeka Jalur Gemilang 2025 Peringkat Negeri Selangor
DESCRIPTION:
URL:https://www.merdeka360.my/web/event/kerajaan-negeri-selangor-majlis-peluncuran-bulan-kebangsaan-peringkat-mbpj-kembara-merdeka-jalur-gemilang-2025-peringkat-negeri-selangor/
CATEGORIES:PROGRAM NEGERI
ATTACH;FMTTYPE=image/jpeg:https://www.merdeka360.my/web/wp-content/uploads/2025/08/selangor.jpeg
END:VEVENT
BEGIN:VEVENT
DTSTART;VALUE=DATE:20250802
DTEND;VALUE=DATE:20250810
DTSTAMP:20260420T063514
CREATED:20250730T014839Z
LAST-MODIFIED:20250731T232120Z
UID:11429-1754092800-1754783999@www.merdeka360.my
SUMMARY:JAPEN - Kembara Merdeka Jalur Gemilang Peringkat Negeri Perak
DESCRIPTION:Lokasi Hari Pertama: Menara Condong\, Teluk Intan (2 Ogos 2025) \nLokasi Hari Kedua: Dewan Komuniti Beruas\, Manjung & Manong\, Kuala Kangsar  (3 Ogos 2025) \nLokasi Hari Ketiga: SKJ (C) Nam Hua\, Kuala Kurau\, Kerian (4 Ogos 2025) \nLokasi Hari Keempat: Kampong Beng\, Lenggong\, Hulu Perak (9 Ogos 2025)
URL:https://www.merdeka360.my/web/event/japen-kembara-merdeka-jalur-gemilang-peringkat-negeri-perak/
CATEGORIES:PROGRAM JABATAN / AGENSI DI BAWAH KEMENTERIAN KOMUNIKASI,PROGRAM NEGERI
ATTACH;FMTTYPE=image/png:https://www.merdeka360.my/web/wp-content/uploads/2025/07/KMJG-PERAK.png
END:VEVENT
BEGIN:VEVENT
DTSTART;VALUE=DATE:20250802
DTEND;VALUE=DATE:20250917
DTSTAMP:20260420T063514
CREATED:20250730T045035Z
LAST-MODIFIED:20250731T231646Z
UID:11464-1754092800-1758067199@www.merdeka360.my
SUMMARY:JAPEN - Kembara Merdeka Jalur Gemilang Peringkat Negeri Sarawak
DESCRIPTION:Lokasi Hari Pertama: Miri (2 Ogos 2025)\nLokasi Hari Kedua: Rumah Jelaping\, Marudi (3 Ogos 2025)\nLokasi Hari Ketiga: Miri (11 Ogos 2025)\nLokasi Hari Keempat: Arena Lawas (12 Ogos 2025)\nLokasi Hari Kelima: Sekolah Menengah Kebangsaan Seri Patiambun\, Limbang (13 Ogos 2025)\nLokasi Hari Keenam: Bintulu Port (14 Ogos 2025)\nLokasi Hari Ketujuh: Sekolah Menengah Kebangsaan Tatau (15 Ogos 2025)\nLokasi Hari Kelapan: Pekan Lama Balingian (16 Ogos 2025)\nLokasi Hari Kesembilan: Sekolah Menengah Kebangsaan St Patrick\, Mukah (17 Ogos 2025)\nLokasi Hari Kesepuluh: Sekolah Menengah Kebangsaan Deshon\, Sibu (18 Ogos 2025)\nLokasi Hari Kesebelas: Sekolah Menengah Kebangsaan Julau (19 Ogos 2025)\nLokasi Hari Kedua Belas: Kolej Vokasional Betong (25 Ogos 2025)\nLokasi Hari Ketiga Belas: Dewan Sri Krian\, Saratok (26 Ogos 2025)\nLokasi Hari Ketiga Belas: Dewan Masyarakat Kpg Tian\, Matu & Dewan Kg Semop Daro (27 Ogos 2025)\nLokasi Hari Keempat Belas: Dewan Sri Rajang\, Meradong (28 Ogos 2025)\nLokasi Hari Kelima Belas: Sekolah Menengah Kebangsaan Sarikei Baru (29 Ogos 2025)\nLokasi Hari Keenam Belas: Tapak Pasar Malam Desa Ilmu\, Samarahan (8 September 2025)\nLokasi Hari Ketujuh Belas: Padang Sentral Simunjan (8 September 2025)\nLokasi Hari Kelapan Belas: Awah Gawai Tun Razak\, Serian (9 September 2025)\nLokasi Hari Kesembilan Belas: SMK Paku\, Bau & Sekolah Menengah Kebangsaan Lundu (10 September 2025)\nLokasi Hari Kedua Puluh: Waterfront Kuching (16 September 2025)\n\n 
URL:https://www.merdeka360.my/web/event/japen-kembara-merdeka-jalur-gemilang-peringkat-negeri-sarawak/
CATEGORIES:PROGRAM JABATAN / AGENSI DI BAWAH KEMENTERIAN KOMUNIKASI,PROGRAM NEGERI
ATTACH;FMTTYPE=image/png:https://www.merdeka360.my/web/wp-content/uploads/2025/07/KMJG-SARAWAK.png
END:VEVENT
BEGIN:VEVENT
DTSTART;TZID=Asia/Kuala_Lumpur:20250802T090000
DTEND;TZID=Asia/Kuala_Lumpur:20250802T103000
DTSTAMP:20260420T063514
CREATED:20250803T081211Z
LAST-MODIFIED:20250803T081211Z
UID:12089-1754125200-1754130600@www.merdeka360.my
SUMMARY:JAPEN - Forum Kesedaran Keselamatan Negara dan Kempen Internet Selamat
DESCRIPTION:Forum Kesedaran Keselamatan Negara dan Kempen Internet Selamat sempena Karnival Kita MADANI X Program MADANI Rakyat (PMR) Dan Sambutan Bulan Kebangsaan Kibar Jalur Gemilang 2025 Peringkat Negeri Kelantan. \n🗓️ 2 Ogos 2025 (Sabtu)\n🕗 9:00 pagi – 10:30 pagi\n📍 Kompleks Sekolah-Sekolah Kota Bharu
URL:https://www.merdeka360.my/web/event/japen-forum-kesedaran-keselamatan-negara-dan-kempen-internet-selamat/
CATEGORIES:PROGRAM JABATAN / AGENSI DI BAWAH KEMENTERIAN KOMUNIKASI,PROGRAM NEGERI
ATTACH;FMTTYPE=image/jpeg:https://www.merdeka360.my/web/wp-content/uploads/2025/08/mkn.jpg
END:VEVENT
BEGIN:VEVENT
DTSTART;TZID=Asia/Kuala_Lumpur:20250802T150000
DTEND;TZID=Asia/Kuala_Lumpur:20250802T170000
DTSTAMP:20260420T063514
CREATED:20250803T080807Z
LAST-MODIFIED:20250803T080807Z
UID:12086-1754146800-1754154000@www.merdeka360.my
SUMMARY:Kerajaan Negeri Perak - Majlis Pra Peluncuran Bulan Kebangsaan dan Kibar Jalur Gemilang 2025
DESCRIPTION:Melibatkan 30 aset pengangkutan darat daripada pelbagai agensi kerajaan 🏍️🚓🚐\n🗓️ 2 Ogos 2025 (Sabtu)\n⏰ 3:00 petang\n📍 Dataran Menara Condong\, Teluk Intan
URL:https://www.merdeka360.my/web/event/kerajaan-negeri-perak-majlis-pra-peluncuran-bulan-kebangsaan-dan-kibar-jalur-gemilang-2025/
CATEGORIES:PROGRAM NEGERI
ATTACH;FMTTYPE=image/jpeg:https://www.merdeka360.my/web/wp-content/uploads/2025/08/konvoi-perak.jpg
END:VEVENT
BEGIN:VEVENT
DTSTART;TZID=Asia/Kuala_Lumpur:20250802T190000
DTEND;TZID=Asia/Kuala_Lumpur:20250823T220000
DTSTAMP:20260420T063514
CREATED:20250804T075551Z
LAST-MODIFIED:20250804T075551Z
UID:12236-1754161200-1755986400@www.merdeka360.my
SUMMARY:JAPEN - PENTARAMA Merdeka @HOHO
DESCRIPTION:Tarikh: 2\, 9\, 16 & 23 Ogos 2025 (Sabtu) \nMasa: 7.00 malam \nLokasi: Sekitar Kuala Lumpur
URL:https://www.merdeka360.my/web/event/japen-pentarama-merdeka-hoho-2/
CATEGORIES:PROGRAM JABATAN / AGENSI DI BAWAH KEMENTERIAN KOMUNIKASI
ATTACH;FMTTYPE=image/jpeg:https://www.merdeka360.my/web/wp-content/uploads/2025/08/PENTARAMA-MERDEKA-@HOHO-2.jpeg
END:VEVENT
BEGIN:VEVENT
DTSTART;VALUE=DATE:20250803
DTEND;VALUE=DATE:20250804
DTSTAMP:20260420T063514
CREATED:20250803T042857Z
LAST-MODIFIED:20250803T042857Z
UID:12013-1754179200-1754265599@www.merdeka360.my
SUMMARY:Institut Kemahiran MARA - Gotong-Royong Merdeka: Kibarkan Jalur Gemilang Peringkat IKM Alor Setar
DESCRIPTION:Bersempena Bulan Kemerdekaan ke-68\, IKM Alor Setar dengan penuh semangat patriotik menganjurkan Program Gotong-Royong Memasang Jalur Gemilang bagi menyemarakkan suasana sambutan Hari Kebangsaan! \nTujuan utama program ini adalah untuk memupuk semangat cintakan negara dalam kalangan seluruh warga institusi — daripada pelajar\, pensyarah hingga ke kakitangan — yang turut serta dalam aktiviti memasang bendera dan menceriakan persekitaran kampus. \nDengan Jalur Gemilang berkibar megah di sekitar IKM Alor Setar\, semangat kebangsaan makin membara dan satu usaha bersama untuk menghayati erti kemerdekaan dan perpaduan
URL:https://www.merdeka360.my/web/event/institut-kemahiran-mara-gotong-royong-merdeka-kibarkan-jalur-gemilang-peringkat-ikm-alor-setar/
CATEGORIES:PROGRAM KEMENTERIAN
ATTACH;FMTTYPE=image/jpeg:https://www.merdeka360.my/web/wp-content/uploads/2025/08/IKM.jpg
END:VEVENT
BEGIN:VEVENT
DTSTART;VALUE=DATE:20250804
DTEND;VALUE=DATE:20250806
DTSTAMP:20260420T063514
CREATED:20250730T015754Z
LAST-MODIFIED:20250805T081409Z
UID:11431-1754265600-1754438399@www.merdeka360.my
SUMMARY:JAPEN - Kembara Merdeka Jalur Gemilang Peringkat Negeri Pulau Pinang
DESCRIPTION:Lokasi 1: Pejabat Pendidikan Daerah Seberang Perai Selatan\, Masjid Daerah Seberang Perai Selatan & Sekolah Rendah Islam Ad-Diniah\, Sungai Bakap (4 Ogos 2025) \nLokasi 2: Sekolah Menengah Kebangsaan Penanti\, Angkatan Pertahanan Awam Seberang Perai Tengah & Fly Over Ban Busuk\, Penanti (4 Ogos 2025) \n\nLokasi 3: Penang Free School\, Kolej Tingkatan 6 Zainal Abidin & McDonald’s Persiaran Karpal Singh (5 Ogos 2025)\n\n 
URL:https://www.merdeka360.my/web/event/japen-kembara-merdeka-jalur-gemilang-peringkat-negeri-pulau-pinang/
CATEGORIES:PROGRAM JABATAN / AGENSI DI BAWAH KEMENTERIAN KOMUNIKASI,PROGRAM NEGERI
ATTACH;FMTTYPE=image/png:https://www.merdeka360.my/web/wp-content/uploads/2025/07/KMJG-PULAU-PINANG.png
END:VEVENT
BEGIN:VEVENT
DTSTART;VALUE=DATE:20250804
DTEND;VALUE=DATE:20250903
DTSTAMP:20260420T063514
CREATED:20250725T073146Z
LAST-MODIFIED:20250731T091320Z
UID:10794-1754265600-1756857599@www.merdeka360.my
SUMMARY:PETRA - Pertandingan Hiasan dan Keceriaan sempena Hari Kebangsaan dan Hari Malaysia 2025
DESCRIPTION:Lokasi: Setiap Aras Menara PETRA
URL:https://www.merdeka360.my/web/event/petra-pertandingan-keceriaan-antara-aras-di-menara-petra/
CATEGORIES:PROGRAM KEMENTERIAN
ATTACH;FMTTYPE=image/jpeg:https://www.merdeka360.my/web/wp-content/uploads/2025/07/HIASAN-DAN-KECERIAAN.jpeg
END:VEVENT
BEGIN:VEVENT
DTSTART;VALUE=DATE:20250804
DTEND;VALUE=DATE:20250904
DTSTAMP:20260420T063514
CREATED:20250808T014524Z
LAST-MODIFIED:20250808T014524Z
UID:12785-1754265600-1756943999@www.merdeka360.my
SUMMARY:PETRA - Pertandingan Video Kreatif Merdeka
DESCRIPTION:Lokasi: Menara PETRA \nTarikh tutup penyertaan: 3 September 2025
URL:https://www.merdeka360.my/web/event/petra-pertandingan-video-kreatif-merdeka/
CATEGORIES:PROGRAM KEMENTERIAN
ATTACH;FMTTYPE=image/png:https://www.merdeka360.my/web/wp-content/uploads/2025/08/VIDEO-PETRA.png
END:VEVENT
BEGIN:VEVENT
DTSTART;TZID=Asia/Kuala_Lumpur:20250804T063000
DTEND;TZID=Asia/Kuala_Lumpur:20250804T100000
DTSTAMP:20260420T063514
CREATED:20250803T075104Z
LAST-MODIFIED:20250803T075104Z
UID:12077-1754289000-1754301600@www.merdeka360.my
SUMMARY:SK Menuang - Pelancaran Bulan Kemerdekaan & Kibar Jalur Gemilang
DESCRIPTION:Tarikh: 4 Ogos 2025 (Isnin)\nMasa: 6:50 pagi\nTempat: Tapak Perhimpunan\, SK Menuang\nTema: Malaysia MADANI: Rakyat Disantuni \nKod Pakaian: Pakaian formal bertemakan warna bendera Malaysia iaitu merah\, putih\, biru dan kuning (GURU) & baju seragam sekolah (MURID)
URL:https://www.merdeka360.my/web/event/sk-menuang-pelancaran-bulan-kemerdekaan-kibar-jalur-gemilang-2/
CATEGORIES:PROGRAM KEMENTERIAN
ATTACH;FMTTYPE=image/jpeg:https://www.merdeka360.my/web/wp-content/uploads/2025/08/SK-MENUANG.jpg
END:VEVENT
BEGIN:VEVENT
DTSTART;VALUE=DATE:20250805
DTEND;VALUE=DATE:20250809
DTSTAMP:20260420T063514
CREATED:20250730T020017Z
LAST-MODIFIED:20250731T112546Z
UID:11433-1754352000-1754697599@www.merdeka360.my
SUMMARY:JAPEN - Kembara Merdeka Jalur Gemilang Peringkat Negeri Kedah
DESCRIPTION:Lokasi Hari Pertama: C-Mart Serai Wangi Mall\, Padang Serai\, Kulim (5 Ogos 2025) \nLokasi Hari Kedua: Bukit Kodiang / Bukit Mok Cun\, Kubang Pasu (6 Ogos 2025) \nLokasi Hari Ketiga: Taman Nuri\, Alor Setar (7 Ogos 2025) \nLokasi Hari Keempat: Felda Teloi Timur\, Sik & Teratak Batu Besar\, Jalan Ulu Legong\, Baling (8  Ogos 2025) \n 
URL:https://www.merdeka360.my/web/event/japen-kembara-merdeka-jalur-gemilang-peringkat-negeri-kedah/
CATEGORIES:PROGRAM JABATAN / AGENSI DI BAWAH KEMENTERIAN KOMUNIKASI,PROGRAM NEGERI
ATTACH;FMTTYPE=image/png:https://www.merdeka360.my/web/wp-content/uploads/2025/07/KMJG-KEDAH.png
END:VEVENT
END:VCALENDAR